BEGIN:VCALENDAR
VERSION:2.0
PRODID:-//IPA ROMANIA - ECPv6.0.12//NONSGML v1.0//EN
CALSCALE:GREGORIAN
METHOD:PUBLISH
X-ORIGINAL-URL:https://iparomania.ro
X-WR-CALDESC:Events for IPA ROMANIA
REFRESH-INTERVAL;VALUE=DURATION:PT1H
X-Robots-Tag:noindex
X-PUBLISHED-TTL:PT1H
BEGIN:VTIMEZONE
TZID:UTC
BEGIN:STANDARD
TZOFFSETFROM:+0000
TZOFFSETTO:+0000
TZNAME:UTC
DTSTART:20220101T000000
END:STANDARD
END:VTIMEZONE
BEGIN:VEVENT
DTSTART;VALUE=DATE:20220904
DTEND;VALUE=DATE:20220911
DTSTAMP:20260424T043619
CREATED:20220803T124936Z
LAST-MODIFIED:20220831T091514Z
UID:12192-1662249600-1662854399@iparomania.ro
SUMMARY:Fotbal pe plajă: Cupa Jupiter 2022!
DESCRIPTION:Cupa Jupiter revine cu ediția 11\, în perioada 4-10 septembrie 2022! IPA Regiunea 12 București\, în parteneriat cu IPA România\, Federația Română de Fotbal și CoHotels organizează Cupa Jupiter\, cea mai de succes competiție de fotbal pe plajă! \n\n\nCea de-a 11-a ediție este programată să se desfășoare în perioada 4-10 septembrie 2022!
URL:https://iparomania.ro/event/fotbal-pe-plaja-cupa-jupiter-2022/
LOCATION:Plaja Jupiter
ATTACH;FMTTYPE=image/jpeg:https://iparomania.ro/wp-content/uploads/2022/08/ipa.jpg
ORGANIZER;CN="IPA%20Romania":MAILTO:secretariat@iparomania.ro
END:VEVENT
END:VCALENDAR