BEGIN:VCALENDAR
VERSION:2.0
PRODID:-//IPA ROMANIA - ECPv6.0.12//NONSGML v1.0//EN
CALSCALE:GREGORIAN
METHOD:PUBLISH
X-ORIGINAL-URL:https://iparomania.ro
X-WR-CALDESC:Events for IPA ROMANIA
REFRESH-INTERVAL;VALUE=DURATION:PT1H
X-Robots-Tag:noindex
X-PUBLISHED-TTL:PT1H
BEGIN:VTIMEZONE
TZID:UTC
BEGIN:STANDARD
TZOFFSETFROM:+0000
TZOFFSETTO:+0000
TZNAME:UTC
DTSTART:20220101T000000
END:STANDARD
END:VTIMEZONE
BEGIN:VEVENT
DTSTART;VALUE=DATE:20220919
DTEND;VALUE=DATE:20220923
DTSTAMP:20260424T043618
CREATED:20220825T073223Z
LAST-MODIFIED:20220825T073223Z
UID:12401-1663545600-1663891199@iparomania.ro
SUMMARY:Conferința Internațională “Tânăra generație în fața provocărilor lumii moderne: violența\, droguri\, alcool – prevenirea violenței în școli”
DESCRIPTION:În perioada 19-22 septembrie 2022\, IPA Regiunea 1 Mureș\, în parteneriat cu IPJ Mureș\, Consiliul Județean Mureș și cu sprijinul IPA Secția Română\, va organiza conferința internațională: “Tânăra generație în fața provocărilor lumii moderne: violența\, droguri\, alcool – prevenirea violenței în școli”. \n 
URL:https://iparomania.ro/event/conferinta-internationala-tanara-generatie-in-fata-provocarilor-lumii-moderne-violenta-droguri-alcool-prevenirea-violentei-in-scoli/
LOCATION:Hotel Grand Târgu-Mureș\, Piața Victoriei 28-30\, Targu Mures\, Targu Mures\, 540052\, Romania
ATTACH;FMTTYPE=image/jpeg:https://iparomania.ro/wp-content/uploads/2022/08/43b19e4f-7cb4-44c9-8093-53665c26f2d0.jpeg
END:VEVENT
END:VCALENDAR