BEGIN:VCALENDAR
VERSION:2.0
PRODID:-//IPA ROMANIA - ECPv6.0.12//NONSGML v1.0//EN
CALSCALE:GREGORIAN
METHOD:PUBLISH
X-ORIGINAL-URL:https://iparomania.ro
X-WR-CALDESC:Events for IPA ROMANIA
REFRESH-INTERVAL;VALUE=DURATION:PT1H
X-Robots-Tag:noindex
X-PUBLISHED-TTL:PT1H
BEGIN:VTIMEZONE
TZID:UTC
BEGIN:STANDARD
TZOFFSETFROM:+0000
TZOFFSETTO:+0000
TZNAME:UTC
DTSTART:20260101T000000
END:STANDARD
END:VTIMEZONE
BEGIN:VEVENT
DTSTART;VALUE=DATE:20260610
DTEND;VALUE=DATE:20260615
DTSTAMP:20260424T111124
CREATED:20260318T144949Z
LAST-MODIFIED:20260318T144949Z
UID:13868-1781049600-1781481599@iparomania.ro
SUMMARY:IPA Regiunea 2 Gorj organizează cea de-a V-a ediție a Turneului de tenis „Cupa Florin Mergea”
DESCRIPTION:IPA Regiunea 2 Gorj are plăcerea de a anunța organizarea celei de-a V-a ediții a turneului de tenis „Cupa Florin Mergea”\, eveniment dedicat membrilor IPA și tuturor iubitorilor tenisului.\nCompetiția se va desfășura în perioada 10–14 iunie 2026\, la Academia de Tenis „Florin Mergea” din Târgu Jiu\, și va reuni participanți în cadrul unor probe de simplu și dublu\, atât la masculin\, cât și la feminin. \nTurneul va include următoarele categorii de concurs: \n\nOpen\n+45\n\nOrganizatorii au pregătit pentru participanți un program complet\, care va include: \n\ncazare la Hotel YMY\nmese incluse\nactivități sociale și turistice\ncină festivă\nfestivitate de premiere\n\nTermenul-limită pentru înscriere este 17 aprilie 2026.\nPentru informații suplimentare și înscrieri\, persoanele de contact sunt:\nBuse Constantin – 0766 284 649\nSava Marian – 0768 876 282 \nVă așteptăm cu drag să luați parte la acest eveniment sportiv de tradiție\, desfășurat într-un cadru competitiv\, colegial și prietenos\, sub spiritul IPA. \n  \nDESCOPERIȚI TOATE DETALIILE DESPRE EVENIMENT ÎN BROȘURA DE PREZENTARE
URL:https://iparomania.ro/event/ipa-regiunea-2-gorj-organizeaza-cea-de-a-v-a-editie-a-turneului-de-tenis-cupa-florin-mergea/
LOCATION:Academia de Tenis Florin Mergea\, Calea Severinului 1\, Targu Jiu\, Târgu Jiu\, 210175\, Romania
ATTACH;FMTTYPE=image/png:https://iparomania.ro/wp-content/uploads/2026/03/Grey-Green-And-Red-Simple-Tennis-Tournament-Poster-scaled.png
END:VEVENT
BEGIN:VEVENT
DTSTART;VALUE=DATE:20260917
DTEND;VALUE=DATE:20260921
DTSTAMP:20260424T111124
CREATED:20260423T121805Z
LAST-MODIFIED:20260424T074332Z
UID:13898-1789603200-1789948799@iparomania.ro
SUMMARY:IPA Fest 2026 - 4 zile în inima Deltei Dunării
DESCRIPTION:IPA Secția Română vă invită să descoperiți detaliile despre cea de-a doua ediție IPA FEST\, o experiență unică în mijlocul Dunării\, unde energia\, atmosfera și interacțiunile dintre oameni fac totul memorabil. Continuăm conceptul inovator\, creat special pentru membrii IPA\, cu muzică live\, activități interactive și momente care aduc oamenii mai aproape.\nAcest eveniment continuă un concept special dedicat comunității IPA\, aducând împreună muzica\, talentul și bucuria de a fi împreună. De la artiști invitați până la momente oferite de membrii IPA\, fiecare clipă devine o celebrare a spiritului nostru comun. \nOPȚIUNI DE CAZARE\nGreen Village Resort\nEste situat într-o zonă pitorească a Deltei Dunării\, la mai puțin de 2 km de Marea Neagră\, și oferă o piscină în aer liber\, o cadă cu hidromasaj în aer liber și acces gratuit la o saună. Toate camerele și apartamentele au vedere la Delta Dunării și sunt dotate cu un balcon sau o terasă\, cu TV cu ecran plat cu canale prin cablu\, un minibar\, o zonă de relaxare\, aer condiționat și o baie privată.\n \nPREȚURI: 850 lei / persoană / în cameră dublă sau 1462 lei / persoană în cameră single\nTARIFELE INCLUD CAZAREA CU MIC DEJUN PE TOATĂ PERIOADA FESTIVALULUI\, 17–20 SEPTEMBRIE 2026\, ȘI CINA DE BUN VENIT DIN 17.09.2026. \nGREEN DOLPHIN CAMPING\nDolphin Camping este situat într-o zonă pitorească a Rezervației Delta Dunării\, la mai puțin de 2 km de Marea Neagră\, și oferă căsuțe (bungalouri) din lemn\, cu vedere la plajă și acces gratuit la un cinematograf în aer liber. Toate căsuțele au intrare privată și un patio mic\, sunt mobilate funcțional și oferă acces la 2 băi comune\, dotate cu duș și toaletă. Sunt disponibile și dușuri în aer liber. Dolphin Camping oferă\, de asemenea\, un restaurant à la carte\, un magazin\, un fast-food\, un bar și o terasă în aer liber unde oaspeții se pot relaxa și servi mesele.\n \nPREȚURI: 450 lei / persoană / în căsuță sau 718 lei /căsuță în regim single\nTARIFELE INCLUD CAZAREA CU MIC DEJUN PE TOATĂ PERIOADA FESTIVALULUI\, 17–20 SEPTEMBRIE 2026\, ȘI CINA DE BUN VENIT DIN 17.09.2026. \nACTIVITĂȚI pe care le puteți desfășura în timpul festivalului\nDelta Dunării este una dintre cele mai mari și mai bine conservate delte din Europa și este inclusă pe lista Patrimoniului Mondial UNESCO. Se întinde pe o suprafață de aproximativ 5.165 de kilometri pătrați și reprezintă un ecosistem excepțional de important\, cu o diversitate remarcabilă de floră și faună. Delta este situată în sud-estul României\, acolo unde fluviul Dunărea se întâlnește cu Marea Neagră\, formând o rețea complexă de canale\, lacuri și zone umede. \nDelta Dunării oferă o gamă variată de activități pentru vizitatori:\n\nexcursii cu barca prin rețeaua sa complicată de canale și lacuri\,\nobservarea păsărilor în acest sanctuar de păsări migratoare\npescuit în apele sale bogate\ndrumeții și ciclism prin traseele sale accesibile\nvizitarea satelor tradiționale precum Sfântu Gheorghe și Crișan pentru a dezvolta cultura locală\ncamping pentru o experiență naturală captivantă.\n\nÎNSCRIERI\nVă rugăm să rețineți că termenul limită pentru depunerea participărilor dumneavoastră la IPA Fest 2026 este 01 iulie 2026 la adresa de email secretariat@iparomania.ro. Pentru a vă confirma participarea\, este necesar să ne transmiteți unitatea de cazare Green Village sau Green Dolphin Camping\, numărul și numele participanților. \nPlata se va face în contul bancar:\nNumele titularului de cont: IPA Secția Română\nBanca: Banca Transilvania\nMoneda: RON\nIBAN: RO04BTRLRONCRT0P94062106 \nLocurile sunt limitate și vor fi alocate în ordinea rezervărilor!\nDupă efectuarea plății\, vă rugăm să ne transmiteți dovada plății la aceeași adresă de e-mail sau pe WhatsApp\, la numărul 0724.200.101. Pentru informații suplimentare\, vă stăm la dispoziție la numărul 0724 200 101. \nDESCOPERĂ PREZENTAREA COMPLETĂ A FESTIVALULUI ÎN DOCUMENTUL DE MAI JOS: 
URL:https://iparomania.ro/event/ipa-fest-2026-4-zile-in-inima-deltei-dunarii/
LOCATION:Sfantu Gheorghe\, Romania
ATTACH;FMTTYPE=image/png:https://iparomania.ro/wp-content/uploads/2026/04/Copie-a-pliant-IPA-FEST-2.png
ORGANIZER;CN="IPA%20Romania":MAILTO:secretariat@iparomania.ro
END:VEVENT
END:VCALENDAR