BEGIN:VCALENDAR
VERSION:2.0
PRODID:-//IPA ROMANIA - ECPv6.0.12//NONSGML v1.0//EN
CALSCALE:GREGORIAN
METHOD:PUBLISH
X-WR-CALNAME:IPA ROMANIA
X-ORIGINAL-URL:https://iparomania.ro
X-WR-CALDESC:Events for IPA ROMANIA
REFRESH-INTERVAL;VALUE=DURATION:PT1H
X-Robots-Tag:noindex
X-PUBLISHED-TTL:PT1H
BEGIN:VTIMEZONE
TZID:UTC
BEGIN:STANDARD
TZOFFSETFROM:+0000
TZOFFSETTO:+0000
TZNAME:UTC
DTSTART:20230101T000000
END:STANDARD
END:VTIMEZONE
BEGIN:VEVENT
DTSTART;VALUE=DATE:20231019
DTEND;VALUE=DATE:20231022
DTSTAMP:20260426T043200
CREATED:20230907T141002Z
LAST-MODIFIED:20230907T141009Z
UID:13229-1697673600-1697932799@iparomania.ro
SUMMARY:IPA Regiunea 1 București organizează IPA ROPENTA 2023 - Ediția III
DESCRIPTION:IPA Regiunea 1 București organizează\, în perioada 19-21 octombrie 2023\, cea de-a III-a ediție a Pentatlonului Internațional al Polițiștilor\, IPA ROPENTA 2023!\nCompetiția se adresează tuturor membrilor IPA și familiilor acestora\, dar și membrilor societății civile. Competitorii și familiile acestora vor beneficia de muzică bună și posibilitatea de a se distra și relaxa pe parcursul celor trei zile de competiție! \nToate detaliile despre eveniment sunt disponibile pe www.dlropenta.ro!
URL:https://iparomania.ro/event/ipa-regiunea-1-bucuresti-organizeaza-ipa-ropenta-2023-editia-iii/
LOCATION:Cheila Gradistei Resort & Spa\, Fundata\, Brasov\, 507070\, Romania
ATTACH;FMTTYPE=image/jpeg:https://iparomania.ro/wp-content/uploads/2023/09/WhatsApp-Image-2023-09-05-at-08.25.22.jpeg
ORGANIZER;CN="IPA%20Regiunea%201%20Bucure%C8%99ti":MAILTO:ipabucuresti@ipabucuresti.ro
END:VEVENT
END:VCALENDAR